BEGIN:VCALENDAR
VERSION:2.0
PRODID:-//Gates Historical Society - ECPv6.1.3//NONSGML v1.0//EN
CALSCALE:GREGORIAN
METHOD:PUBLISH
X-WR-CALNAME:Gates Historical Society
X-ORIGINAL-URL:https://gateshistory.org
X-WR-CALDESC:Events for Gates Historical Society
REFRESH-INTERVAL;VALUE=DURATION:PT1H
X-Robots-Tag:noindex
X-PUBLISHED-TTL:PT1H
BEGIN:VTIMEZONE
TZID:America/New_York
BEGIN:DAYLIGHT
TZOFFSETFROM:-0500
TZOFFSETTO:-0400
TZNAME:EDT
DTSTART:20220313T070000
END:DAYLIGHT
BEGIN:STANDARD
TZOFFSETFROM:-0400
TZOFFSETTO:-0500
TZNAME:EST
DTSTART:20221106T060000
END:STANDARD
END:VTIMEZONE
BEGIN:VEVENT
DTSTART;TZID=America/New_York:20220321T190000
DTEND;TZID=America/New_York:20220321T203000
DTSTAMP:20260419T110649
CREATED:20220228T182520Z
LAST-MODIFIED:20220228T182520Z
UID:2178-1647889200-1647894600@gateshistory.org
SUMMARY:GHS March Program: Carol Crossed
DESCRIPTION:The Gates Historical Society’s March program will be held on March 21\, at 7:00 pm in the Gates Town Hall Annex.  Carol Crossed\, Author of “Vintage Tweets Suffrage Era Postcards” and founder of the Harriet Tubman Museum in NJ\, among other accomplishments\, will be the speaker.  She has compiled a massive collection of postcards from the suffrage movement into a new coffee-table style art book which she will have for sale at the meeting.  The cost is $75.00.  A sample will be available to view.   \nThis program is free and the facilities are handicapped accessible.  Masks are recommended.
URL:https://gateshistory.org/event/ghs-march-program-carol-crossed
LOCATION:Gates Town Hall Annex\, 1605 Buffalo Road\, Rochester\, NY\, 14624\, United States
CATEGORIES:Author
ATTACH;FMTTYPE=image/png:https://gateshistory.org/wp-content/uploads/2022/02/GHS-March-Program.png
END:VEVENT
END:VCALENDAR