BEGIN:VCALENDAR
VERSION:2.0
PRODID:-//Gates Historical Society - ECPv6.1.3//NONSGML v1.0//EN
CALSCALE:GREGORIAN
METHOD:PUBLISH
X-ORIGINAL-URL:https://gateshistory.org
X-WR-CALDESC:Events for Gates Historical Society
REFRESH-INTERVAL;VALUE=DURATION:PT1H
X-Robots-Tag:noindex
X-PUBLISHED-TTL:PT1H
BEGIN:VTIMEZONE
TZID:America/New_York
BEGIN:DAYLIGHT
TZOFFSETFROM:-0500
TZOFFSETTO:-0400
TZNAME:EDT
DTSTART:20240310T070000
END:DAYLIGHT
BEGIN:STANDARD
TZOFFSETFROM:-0400
TZOFFSETTO:-0500
TZNAME:EST
DTSTART:20241103T060000
END:STANDARD
END:VTIMEZONE
BEGIN:VEVENT
DTSTART;TZID=America/New_York:20240520T193000
DTEND;TZID=America/New_York:20240520T203000
DTSTAMP:20260423T071158
CREATED:20240207T175227Z
LAST-MODIFIED:20240508T192953Z
UID:33256-1716233400-1716237000@gateshistory.org
SUMMARY:Don Shilling-The Roaring Twenties
DESCRIPTION:Don Shilling\, Author and Popular Speaker:  “The Roaring Twenties”.  His presentation will cover events happening after WWI\, such as the return of the Dough Boys\, flappers\, the 19th Amendment\, Kodak invents color prints and many other events that happened during that time in history.
URL:https://gateshistory.org/event/don-shillings-the-roaring-twenties
LOCATION:Gates Town Hall Annex\, 1605 Buffalo Road\, Rochester\, NY\, 14624\, United States
CATEGORIES:Author
END:VEVENT
END:VCALENDAR