BEGIN:VCALENDAR
VERSION:2.0
PRODID:-//Gates Historical Society - ECPv6.1.3//NONSGML v1.0//EN
CALSCALE:GREGORIAN
METHOD:PUBLISH
X-ORIGINAL-URL:https://gateshistory.org
X-WR-CALDESC:Events for Gates Historical Society
REFRESH-INTERVAL;VALUE=DURATION:PT1H
X-Robots-Tag:noindex
X-PUBLISHED-TTL:PT1H
BEGIN:VTIMEZONE
TZID:America/New_York
BEGIN:DAYLIGHT
TZOFFSETFROM:-0500
TZOFFSETTO:-0400
TZNAME:EDT
DTSTART:20210314T070000
END:DAYLIGHT
BEGIN:STANDARD
TZOFFSETFROM:-0400
TZOFFSETTO:-0500
TZNAME:EST
DTSTART:20211107T060000
END:STANDARD
END:VTIMEZONE
BEGIN:VEVENT
DTSTART;TZID=America/New_York:20211104T190000
DTEND;TZID=America/New_York:20211104T210000
DTSTAMP:20260421T150738
CREATED:20211019T194146Z
LAST-MODIFIED:20211027T162746Z
UID:1734-1636052400-1636059600@gateshistory.org
SUMMARY:The Italians of Greater Rochester NY: Contributions to the Community and the Nation (ZOOM)
DESCRIPTION:Retired RIT Professor Ed Maruggi will host a Zoom presentation based on his book\, “The Italians of Greater Rochester NY: Contributions to the Community and the Nation.”  Following his presentation\, several Gates Italian-American panelists will comment on their experiences including Gates Town Supervisor\, Cosmo Giunta\, and Enzo Scollo of the Italian Consulate in Rochester. The general public will be invited to ask questions by Zoom. \nAfter registering: \n\nYou will immediately receive an email (from alerts@mail.libcal.com) confirming your registration.  If you do not receive this\, please check your Junk or Spam folder.\nOn Wednesday\, November 3 (the day before the event) you will be emailed the Zoom link. \nIf you have any questions\, please email mike.boedicker@libraryweb.org or call 585-429-8219.\n\nRegister for this program here.
URL:https://gateshistory.org/event/the-italians-of-greater-rochester-ny-contributions-to-the-community-and-the-nation-zoom
LOCATION:Online Event
CATEGORIES:Author
ATTACH;FMTTYPE=image/png:https://gateshistory.org/wp-content/uploads/2021/10/Italians.png
ORGANIZER;CN="Gates%20Public%20Library":MAILTO:gatesreference@libraryweb.org
END:VEVENT
END:VCALENDAR